BEGIN:VCALENDAR
VERSION:2.0
PRODID:-//wp-events-plugin.com//7.2.3.1//EN
BEGIN:VEVENT
UID:115@westdaleunitedchurch.com
DTSTART:20250926T133000Z
DTEND:20250926T150000Z
DTSTAMP:20250228T002425Z
URL:https://westdaleunitedchurch.com/events/book-club-big-lonely-doug-by-h
 arley-rustad/
SUMMARY:Book Club - "Big Lonely Doug" by Harley Rustad
DESCRIPTION:This month we will be discussing the book “ Big Lonely Doug
 ” by Harley Rustad.  If you would like to borrow a copy of the book it 
 is located in the Westdale Library in the big blue bag on the metal shelf.
   There is a sign out sheet in the bag.  If you would like to take part 
 in the book club meeting\, it takes place Friday\, September 26 at 1:30 pm
  in the Westdale Library.  If you would like to be added to the Book Club
  e-mail list\, please contact the office.  Happy Reading.
END:VEVENT
END:VCALENDAR