BEGIN:VCALENDAR
VERSION:2.0
PRODID:-//wp-events-plugin.com//7.2.3.1//EN
BEGIN:VEVENT
UID:488@westdaleunitedchurch.com
DTSTART:20260502T190000Z
DTEND:20260502T203000Z
DTSTAMP:20260422T135346Z
URL:https://westdaleunitedchurch.com/events/electric-city-singers-concert/
SUMMARY:Electric City Singers Concert
DESCRIPTION:Come on our to enjoy the music of the Electric City Singers as 
 they perform "Spring into Song" on Saturday May 2nd at 7 pm in the Sanctua
 ry. Admission is by donation received at the door.  All proceeds support 
 the Choir.
CATEGORIES:Event
LOCATION:Westdale United Church\, 1509 Sherbrooke St\, Peterborough\, Ontar
 io\, K9K 0E6\, Canada
X-APPLE-STRUCTURED-LOCATION;VALUE=URI;X-ADDRESS=1509 Sherbrooke St\, Peterb
 orough\, Ontario\, K9K 0E6\, Canada;X-APPLE-RADIUS=100;X-TITLE=Westdale Un
 ited Church:geo:0,0
END:VEVENT
END:VCALENDAR