BEGIN:VCALENDAR
VERSION:2.0
PRODID:-//wp-events-plugin.com//7.2.3.1//EN
BEGIN:VEVENT
UID:489@westdaleunitedchurch.com
DTSTART:20260520T103000Z
DTEND:20260520T113000Z
DTSTAMP:20260422T135807Z
URL:https://westdaleunitedchurch.com/events/recreational-hand-drumming-cir
 cle/
SUMMARY:Recreational Hand Drumming Circle
DESCRIPTION:Come on out to Henderson Hall and join Michelle A. in her passi
 on for drumming using mostly African Djembe drums on Wednesday May 20th fr
 om 10:30 am - 11:30 am.  Cost is $10 per person and all instruments are s
 upplied.  Please sign up on the sheet posted on the bulletin board if you
  wish to participate or give the office a call at 705-743-9911.
CATEGORIES:Event
LOCATION:Westdale United Church\, 1509 Sherbrooke St\, Peterborough\, Ontar
 io\, K9K 0E6\, Canada
X-APPLE-STRUCTURED-LOCATION;VALUE=URI;X-ADDRESS=1509 Sherbrooke St\, Peterb
 orough\, Ontario\, K9K 0E6\, Canada;X-APPLE-RADIUS=100;X-TITLE=Westdale Un
 ited Church:geo:0,0
END:VEVENT
END:VCALENDAR