BEGIN:VCALENDAR
VERSION:2.0
PRODID:-//wp-events-plugin.com//7.2.3.1//EN
BEGIN:VEVENT
UID:72@westdaleunitedchurch.com
DTSTART:20250115T193000Z
DTEND:20250115T213000Z
DTSTAMP:20250113T200749Z
URL:https://westdaleunitedchurch.com/events/unified-board-meeting/
SUMMARY:Unified Board Meeting
DESCRIPTION:The Unified Board will be meeting on Wednesday\, January 15th a
 t 7:30 pm in the John H. MacDonald Friendship Room.  Please send regrets 
 to the office by Monday\, January 13th.
LOCATION:Westdale United Church\, 1509 Sherbrooke St\, Peterborough\, Ontar
 io\, K9K 0E6\, Canada
X-APPLE-STRUCTURED-LOCATION;VALUE=URI;X-ADDRESS=1509 Sherbrooke St\, Peterb
 orough\, Ontario\, K9K 0E6\, Canada;X-APPLE-RADIUS=100;X-TITLE=Westdale Un
 ited Church:geo:0,0
END:VEVENT
END:VCALENDAR